BEGIN:VCALENDAR
VERSION:2.0
PRODID:-//The DB Orchestra - ECPv6.15.3//NONSGML v1.0//EN
CALSCALE:GREGORIAN
METHOD:PUBLISH
X-ORIGINAL-URL:https://www.thedborchestra.com
X-WR-CALDESC:Events for The DB Orchestra
REFRESH-INTERVAL;VALUE=DURATION:PT1H
X-Robots-Tag:noindex
X-PUBLISHED-TTL:PT1H
BEGIN:VTIMEZONE
TZID:America/Chicago
BEGIN:DAYLIGHT
TZOFFSETFROM:-0600
TZOFFSETTO:-0500
TZNAME:CDT
DTSTART:20250309T080000
END:DAYLIGHT
BEGIN:STANDARD
TZOFFSETFROM:-0500
TZOFFSETTO:-0600
TZNAME:CST
DTSTART:20251102T070000
END:STANDARD
END:VTIMEZONE
BEGIN:VEVENT
DTSTART;TZID=America/Chicago:20250320T180000
DTEND;TZID=America/Chicago:20250320T210000
DTSTAMP:20260424T083114
CREATED:20241215T223447Z
LAST-MODIFIED:20250122T072940Z
UID:1649-1742493600-1742504400@www.thedborchestra.com
SUMMARY:Evening Jazz (DB & The Hot 5)
DESCRIPTION:
URL:https://www.thedborchestra.com/calendar/public-gig-the-db-polka-express/
LOCATION:Full Mile Beer Company & Kitchen\, 132 Market St Suite #100\, Madison\, WI\, 53590\, United States
END:VEVENT
END:VCALENDAR