BEGIN:VCALENDAR
VERSION:2.0
PRODID:-//The DB Orchestra - ECPv6.15.3//NONSGML v1.0//EN
CALSCALE:GREGORIAN
METHOD:PUBLISH
X-ORIGINAL-URL:https://www.thedborchestra.com
X-WR-CALDESC:Events for The DB Orchestra
REFRESH-INTERVAL;VALUE=DURATION:PT1H
X-Robots-Tag:noindex
X-PUBLISHED-TTL:PT1H
BEGIN:VTIMEZONE
TZID:America/Chicago
BEGIN:DAYLIGHT
TZOFFSETFROM:-0600
TZOFFSETTO:-0500
TZNAME:CDT
DTSTART:20260308T080000
END:DAYLIGHT
BEGIN:STANDARD
TZOFFSETFROM:-0500
TZOFFSETTO:-0600
TZNAME:CST
DTSTART:20261101T070000
END:STANDARD
END:VTIMEZONE
BEGIN:VEVENT
DTSTART;TZID=America/Chicago:20260123T193000
DTEND;TZID=America/Chicago:20260123T204000
DTSTAMP:20260423T170309
CREATED:20260114T204920Z
LAST-MODIFIED:20260114T204920Z
UID:1806-1769196600-1769200800@www.thedborchestra.com
SUMMARY:Madison Folk Ball (DB Polka Express)
DESCRIPTION:
URL:https://www.thedborchestra.com/calendar/madison-folk-ball-db-polka-express/
LOCATION:Great Hall\, Memorial Union\, 800 Langdon St\, Madison\, WI\, 53706\, United States
END:VEVENT
END:VCALENDAR