BEGIN:VCALENDAR
VERSION:2.0
PRODID:-//wp-events-plugin.com//7.2.3.1//EN
TZID:America/Chicago
X-WR-TIMEZONE:America/Chicago
BEGIN:VEVENT
UID:22@thedborchestra.com
DTSTART:20171028T010000Z
DTEND:20171028T030000Z
DTSTAMP:20181024T144446Z
URL:https://www.thedborchestra.com/events/madison-swing-club-dance-2/
SUMMARY:Madison Swing Club Dance
DESCRIPTION:
CATEGORIES:Dance (Public)
LOCATION:Memorial Union\, 800 Langdon St\, Madison\, WI\, United States
X-APPLE-STRUCTURED-LOCATION;VALUE=URI;X-ADDRESS=800 Langdon St\, Madison\, 
 WI\, United States;X-APPLE-RADIUS=100;X-TITLE=Memorial Union:geo:0,0
END:VEVENT
BEGIN:VEVENT
UID:21@thedborchestra.com
DTSTART:20171030T003000Z
DTEND:20171030T023000Z
DTSTAMP:20181024T144346Z
URL:https://www.thedborchestra.com/events/uw-band-swing-dance-3/
SUMMARY:UW Band Swing Dance
DESCRIPTION:
CATEGORIES:Dance (Public)
LOCATION:Varsity Hall\, 1308 W Dayton St\, Madison\, WI\, United States
X-APPLE-STRUCTURED-LOCATION;VALUE=URI;X-ADDRESS=1308 W Dayton St\, Madison\
 , WI\, United States;X-APPLE-RADIUS=100;X-TITLE=Varsity Hall:geo:0,0
END:VEVENT
BEGIN:VEVENT
UID:20@thedborchestra.com
DTSTART:20171211T013000Z
DTEND:20171211T030000Z
DTSTAMP:20181024T144231Z
URL:https://www.thedborchestra.com/events/uw-band-banquet/
SUMMARY:UW Band Banquet
DESCRIPTION:
CATEGORIES:Private Event
LOCATION:The Madison Concourse Hotel and Governor's Club\, 1 W Dayton St\, 
 Madison\, WI\, United States
X-APPLE-STRUCTURED-LOCATION;VALUE=URI;X-ADDRESS=1 W Dayton St\, Madison\, W
 I\, United States;X-APPLE-RADIUS=100;X-TITLE=The Madison Concourse Hotel a
 nd Governor's Club:geo:0,0
END:VEVENT
BEGIN:VEVENT
UID:19@thedborchestra.com
DTSTART:20180210T010000Z
DTEND:20180210T030000Z
DTSTAMP:20181024T144032Z
URL:https://www.thedborchestra.com/events/hoofers-snow-ball/
SUMMARY:Hoofer’s Snow Ball
DESCRIPTION:
CATEGORIES:Dance (Public)
LOCATION:Memorial Union\, 800 Langdon St\, Madison\, WI\, United States
X-APPLE-STRUCTURED-LOCATION;VALUE=URI;X-ADDRESS=800 Langdon St\, Madison\, 
 WI\, United States;X-APPLE-RADIUS=100;X-TITLE=Memorial Union:geo:0,0
END:VEVENT
BEGIN:VEVENT
UID:15@thedborchestra.com
DTSTART:20180212T000000Z
DTEND:20180212T020000Z
DTSTAMP:20181024T143123Z
URL:https://www.thedborchestra.com/events/uw-band-swing-dance/
SUMMARY:UW Band Swing Dance
DESCRIPTION:
CATEGORIES:Dance (Public)
LOCATION:Memorial Union\, 800 Langdon St\, Madison\, WI\, United States
X-APPLE-STRUCTURED-LOCATION;VALUE=URI;X-ADDRESS=800 Langdon St\, Madison\, 
 WI\, United States;X-APPLE-RADIUS=100;X-TITLE=Memorial Union:geo:0,0
END:VEVENT
BEGIN:VEVENT
UID:14@thedborchestra.com
DTSTART:20180218T010000Z
DTEND:20180218T030000Z
DTSTAMP:20181024T142934Z
URL:https://www.thedborchestra.com/events/madison-swing-club-dance/
SUMMARY:Madison Swing Club Dance
DESCRIPTION:
CATEGORIES:Dance (Public)
LOCATION:Varsity Hall\, 1308 W Dayton St\, Madison\, WI\, United States
X-APPLE-STRUCTURED-LOCATION;VALUE=URI;X-ADDRESS=1308 W Dayton St\, Madison\
 , WI\, United States;X-APPLE-RADIUS=100;X-TITLE=Varsity Hall:geo:0,0
END:VEVENT
BEGIN:VEVENT
UID:12@thedborchestra.com
DTSTART:20180504T230000Z
DTEND:20180505T020000Z
DTSTAMP:20181024T142702Z
URL:https://www.thedborchestra.com/events/blue-opus-night-1/
SUMMARY:Blue Opus\, Night 1
DESCRIPTION:
CATEGORIES:Public Performance
LOCATION:Blue Opus\, 1390 Bellevue St\, Green Bay\, WI\, United States
X-APPLE-STRUCTURED-LOCATION;VALUE=URI;X-ADDRESS=1390 Bellevue St\, Green Ba
 y\, WI\, United States;X-APPLE-RADIUS=100;X-TITLE=Blue Opus:geo:0,0
END:VEVENT
BEGIN:VEVENT
UID:13@thedborchestra.com
DTSTART:20180505T230000Z
DTEND:20180506T020000Z
DTSTAMP:20181024T142754Z
URL:https://www.thedborchestra.com/events/blue-opus-night-2/
SUMMARY:Blue Opus\, Night 2
DESCRIPTION:
CATEGORIES:Public Performance
LOCATION:Blue Opus\, 1390 Bellevue St\, Green Bay\, United States
X-APPLE-STRUCTURED-LOCATION;VALUE=URI;X-ADDRESS=1390 Bellevue St\, Green Ba
 y\, United States;X-APPLE-RADIUS=100;X-TITLE=Blue Opus:geo:0,0
END:VEVENT
BEGIN:VEVENT
UID:11@thedborchestra.com
DTSTART:20180618T160000Z
DTEND:20180618T180000Z
DTSTAMP:20181024T142533Z
URL:https://www.thedborchestra.com/events/dcf-foster-graduation/
SUMMARY:DCF Foster Graduation
DESCRIPTION:
CATEGORIES:Private Event
LOCATION:WI Governor's Mansion\, 99 Cambridge Rd\, Madison\, WI\, United St
 ates
X-APPLE-STRUCTURED-LOCATION;VALUE=URI;X-ADDRESS=99 Cambridge Rd\, Madison\,
  WI\, United States;X-APPLE-RADIUS=100;X-TITLE=WI Governor's Mansion:geo:0
 ,0
END:VEVENT
BEGIN:VEVENT
UID:10@thedborchestra.com
DTSTART:20180622T000000Z
DTEND:20180622T013000Z
DTSTAMP:20181024T142342Z
URL:https://www.thedborchestra.com/events/make-music-madison/
SUMMARY:Make Music Madison
DESCRIPTION:
CATEGORIES:Public Performance
END:VEVENT
BEGIN:VEVENT
UID:9@thedborchestra.com
DTSTART:20180714T200000Z
DTEND:20180715T000000Z
DTSTAMP:20181024T142244Z
URL:https://www.thedborchestra.com/events/sangria-swing/
SUMMARY:Sangria & Swing
DESCRIPTION:
CATEGORIES:Public Performance
LOCATION:Botham Vineyards\, 9798\, 8180 Langberry Rd\, Barneveld\, WI\, Uni
 ted States
X-APPLE-STRUCTURED-LOCATION;VALUE=URI;X-ADDRESS=9798\, 8180 Langberry Rd\, 
 Barneveld\, WI\, United States;X-APPLE-RADIUS=100;X-TITLE=Botham Vineyards
 :geo:0,0
END:VEVENT
BEGIN:VEVENT
UID:1@thedborchestra.com
DTSTART:20180804T010000Z
DTEND:20180804T021500Z
DTSTAMP:20181024T140424Z
URL:https://www.thedborchestra.com/events/bix-beiderbecke-jazz-festival-20
 18/
SUMMARY:Bix Beiderbecke Jazz Festival 2018
DESCRIPTION:
CATEGORIES:Festival (Public)
LOCATION:LeClaire Park\, 400 West Beiderbecke Dr.\, Davenport\, IA\, United
  States
X-APPLE-STRUCTURED-LOCATION;VALUE=URI;X-ADDRESS=400 West Beiderbecke Dr.\, 
 Davenport\, IA\, United States;X-APPLE-RADIUS=100;X-TITLE=LeClaire Park:ge
 o:0,0
END:VEVENT
BEGIN:VEVENT
UID:8@thedborchestra.com
DTSTART:20180811T170000Z
DTEND:20180811T180000Z
DTSTAMP:20181024T142058Z
URL:https://www.thedborchestra.com/events/autism-acceptance-music-festival
 /
SUMMARY:Autism Acceptance Music Festival
DESCRIPTION:
CATEGORIES:Festival (Public)
LOCATION:Cedar Creek Park\, N55 W6079 Portland Rd\, Cedarburg\, WI\, United
  States
X-APPLE-STRUCTURED-LOCATION;VALUE=URI;X-ADDRESS=N55 W6079 Portland Rd\, Ced
 arburg\, WI\, United States;X-APPLE-RADIUS=100;X-TITLE=Cedar Creek Park:ge
 o:0,0
END:VEVENT
BEGIN:VEVENT
UID:7@thedborchestra.com
DTSTART:20180818T220000Z
DTEND:20180819T000000Z
DTSTAMP:20181024T141618Z
URL:https://www.thedborchestra.com/events/barn-party/
SUMMARY:Barn Party
DESCRIPTION:
CATEGORIES:Private Event
LOCATION:Oconomowoc\, --\, --\, United States
X-APPLE-STRUCTURED-LOCATION;VALUE=URI;X-ADDRESS=--\, --\, United States;X-A
 PPLE-RADIUS=100;X-TITLE=Oconomowoc:geo:0,0
END:VEVENT
BEGIN:VEVENT
UID:6@thedborchestra.com
DTSTART:20180822T213000Z
DTEND:20180822T220000Z
DTSTAMP:20181024T141442Z
URL:https://www.thedborchestra.com/events/jazz-at-five/
SUMMARY:Jazz at Five
DESCRIPTION:
CATEGORIES:Festival (Public)
LOCATION:Capitol Square\, 100 State St\, Madison\, WI\, United States
X-APPLE-STRUCTURED-LOCATION;VALUE=URI;X-ADDRESS=100 State St\, Madison\, WI
 \, United States;X-APPLE-RADIUS=100;X-TITLE=Capitol Square:geo:0,0
END:VEVENT
BEGIN:VEVENT
UID:5@thedborchestra.com
DTSTART:20180825T230000Z
DTEND:20180826T000000Z
DTSTAMP:20181024T140501Z
URL:https://www.thedborchestra.com/events/wedding-3/
SUMMARY:Wedding
DESCRIPTION:
CATEGORIES:Private Event
LOCATION:Omro Fire House\, 502 W Huron St\, Omro\, WI\, 54963\, United Stat
 es
X-APPLE-STRUCTURED-LOCATION;VALUE=URI;X-ADDRESS=502 W Huron St\, Omro\, WI\
 , 54963\, United States;X-APPLE-RADIUS=100;X-TITLE=Omro Fire House:geo:0,0
END:VEVENT
BEGIN:VEVENT
UID:4@thedborchestra.com
DTSTART:20180909T010000Z
DTEND:20180909T030000Z
DTSTAMP:20181024T140557Z
URL:https://www.thedborchestra.com/events/wedding-2/
SUMMARY:Wedding
DESCRIPTION:
CATEGORIES:Private Event
LOCATION:The Brink Lounge\, 701 E Washington Ave\, Madison\, WI\, 53703\, U
 nited States
X-APPLE-STRUCTURED-LOCATION;VALUE=URI;X-ADDRESS=701 E Washington Ave\, Madi
 son\, WI\, 53703\, United States;X-APPLE-RADIUS=100;X-TITLE=The Brink Loun
 ge:geo:0,0
END:VEVENT
BEGIN:VEVENT
UID:3@thedborchestra.com
DTSTART:20180928T000000Z
DTEND:20180928T030000Z
DTSTAMP:20181015T144435Z
URL:https://www.thedborchestra.com/events/uncorked-for-a-cure/
SUMMARY:Uncorked For a Cure
DESCRIPTION:
CATEGORIES:Private Event
LOCATION:Buck & Honey's\, 804 Liberty Blvd\, Sun Prairie\, WI\, 53590\, Uni
 ted States
X-APPLE-STRUCTURED-LOCATION;VALUE=URI;X-ADDRESS=804 Liberty Blvd\, Sun Prai
 rie\, WI\, 53590\, United States;X-APPLE-RADIUS=100;X-TITLE=Buck & Honey's
 :geo:0,0
END:VEVENT
BEGIN:VEVENT
UID:2@thedborchestra.com
DTSTART:20180929T220000Z
DTEND:20180930T033000Z
DTSTAMP:20181015T154137Z
URL:https://www.thedborchestra.com/events/wedding/
SUMMARY:Wedding
DESCRIPTION:
CATEGORIES:Private Event
LOCATION:Vintage Brewing\, 600 Water St\, Sauk City\, WI\, 53583\, United S
 tates
X-APPLE-STRUCTURED-LOCATION;VALUE=URI;X-ADDRESS=600 Water St\, Sauk City\, 
 WI\, 53583\, United States;X-APPLE-RADIUS=100;X-TITLE=Vintage Brewing:geo:
 0,0
END:VEVENT
BEGIN:VEVENT
UID:17@thedborchestra.com
DTSTART:20181112T000000Z
DTEND:20181112T020000Z
DTSTAMP:20181024T143336Z
URL:https://www.thedborchestra.com/events/uw-band-swing-dance-2/
SUMMARY:UW Band Swing Dance
DESCRIPTION:
CATEGORIES:Dance (Public)
LOCATION:Memorial Union\, 800 Langdon St\, Madison\, WI\, United States
X-APPLE-STRUCTURED-LOCATION;VALUE=URI;X-ADDRESS=800 Langdon St\, Madison\, 
 WI\, United States;X-APPLE-RADIUS=100;X-TITLE=Memorial Union:geo:0,0
END:VEVENT
BEGIN:VEVENT
UID:18@thedborchestra.com
DTSTART:20190209T220000Z
DTEND:20190210T020000Z
DTSTAMP:20181024T143747Z
URL:https://www.thedborchestra.com/events/milwaukee-scottish-rite-swing-da
 nce/
SUMMARY:Milwaukee Scottish Rite Swing Dance
DESCRIPTION:
CATEGORIES:Dance (Public)
LOCATION:Chandelier Ballroom\, 150 Jefferson Ave\, Hartford\, WI\, United S
 tates
X-APPLE-STRUCTURED-LOCATION;VALUE=URI;X-ADDRESS=150 Jefferson Ave\, Hartfor
 d\, WI\, United States;X-APPLE-RADIUS=100;X-TITLE=Chandelier Ballroom:geo:
 0,0
END:VEVENT
BEGIN:VEVENT
UID:16@thedborchestra.com
DTSTART:20190302T000000Z
DTEND:20190302T020000Z
DTSTAMP:20181024T143221Z
URL:https://www.thedborchestra.com/events/badger-catholic-swing-dance/
SUMMARY:Badger Catholic Swing Dance
DESCRIPTION:
CATEGORIES:Dance (Public)
LOCATION:Memorial Union\, 800 Langdon St\, Madison\, WI\, United States
X-APPLE-STRUCTURED-LOCATION;VALUE=URI;X-ADDRESS=800 Langdon St\, Madison\, 
 WI\, United States;X-APPLE-RADIUS=100;X-TITLE=Memorial Union:geo:0,0
END:VEVENT
END:VCALENDAR