BEGIN:VCALENDAR
VERSION:2.0
PRODID:-//The DB Orchestra - ECPv6.15.3//NONSGML v1.0//EN
CALSCALE:GREGORIAN
METHOD:PUBLISH
X-ORIGINAL-URL:https://www.thedborchestra.com
X-WR-CALDESC:Events for The DB Orchestra
REFRESH-INTERVAL;VALUE=DURATION:PT1H
X-Robots-Tag:noindex
X-PUBLISHED-TTL:PT1H
BEGIN:VTIMEZONE
TZID:America/Chicago
BEGIN:DAYLIGHT
TZOFFSETFROM:-0600
TZOFFSETTO:-0500
TZNAME:CDT
DTSTART:20250309T080000
END:DAYLIGHT
BEGIN:STANDARD
TZOFFSETFROM:-0500
TZOFFSETTO:-0600
TZNAME:CST
DTSTART:20251102T070000
END:STANDARD
BEGIN:DAYLIGHT
TZOFFSETFROM:-0600
TZOFFSETTO:-0500
TZNAME:CDT
DTSTART:20260308T080000
END:DAYLIGHT
BEGIN:STANDARD
TZOFFSETFROM:-0500
TZOFFSETTO:-0600
TZNAME:CST
DTSTART:20261101T070000
END:STANDARD
END:VTIMEZONE
BEGIN:VEVENT
DTSTART;VALUE=DATE:20260314
DTEND;VALUE=DATE:20260315
DTSTAMP:20260423T115931
CREATED:20250702T054726Z
LAST-MODIFIED:20250702T054726Z
UID:1775-1773446400-1773532799@www.thedborchestra.com
SUMMARY:Wedding (The DB Octet)
DESCRIPTION:
URL:https://www.thedborchestra.com/calendar/wedding-the-db-octet-3/
LOCATION:Private
END:VEVENT
BEGIN:VEVENT
DTSTART;TZID=America/Chicago:20260307T190000
DTEND;TZID=America/Chicago:20260307T220000
DTSTAMP:20260423T115931
CREATED:20251114T090647Z
LAST-MODIFIED:20251114T090841Z
UID:1799-1772910000-1772920800@www.thedborchestra.com
SUMMARY:Swing Into Spring (The DB Orchestra)
DESCRIPTION:
URL:https://www.thedborchestra.com/calendar/swing-into-spring-the-db-orchestra-2/
LOCATION:Tuscan Hall\, 409 Delafield St\, Waukesha\, WI\, 53188\, United States
END:VEVENT
BEGIN:VEVENT
DTSTART;TZID=America/Chicago:20260222T130000
DTEND;TZID=America/Chicago:20260222T170000
DTSTAMP:20260423T115931
CREATED:20251114T091234Z
LAST-MODIFIED:20260206T093822Z
UID:1801-1771765200-1771779600@www.thedborchestra.com
SUMMARY:4 Lakes Polka Club Lessons & Dance\, feat. DJ Shotski (DB Polka Express)
DESCRIPTION:Featuring live polka from the DB Polka Express\, vintage polka vinyls from DJ Shotski\, and dance lessons for all abilities!
URL:https://www.thedborchestra.com/calendar/4-lakes-polka-club-lessons-dance-feat-dj-shotski-db-polka-express/
LOCATION:The Bur Oak\, 2262 Winnebago St\, Madison\, WI\, 53704\, United States
END:VEVENT
BEGIN:VEVENT
DTSTART;TZID=America/Chicago:20260123T193000
DTEND;TZID=America/Chicago:20260123T204000
DTSTAMP:20260423T115931
CREATED:20260114T204920Z
LAST-MODIFIED:20260114T204920Z
UID:1806-1769196600-1769200800@www.thedborchestra.com
SUMMARY:Madison Folk Ball (DB Polka Express)
DESCRIPTION:
URL:https://www.thedborchestra.com/calendar/madison-folk-ball-db-polka-express/
LOCATION:Great Hall\, Memorial Union\, 800 Langdon St\, Madison\, WI\, 53706\, United States
END:VEVENT
BEGIN:VEVENT
DTSTART;TZID=America/Chicago:20251220T190000
DTEND;TZID=America/Chicago:20251220T220000
DTSTAMP:20260423T115931
CREATED:20250707T185242Z
LAST-MODIFIED:20251014T185027Z
UID:1782-1766257200-1766268000@www.thedborchestra.com
SUMMARY:2025 Christmas Spectacular (The DB Orchestra)
DESCRIPTION:
URL:https://www.thedborchestra.com/calendar/2025-christmas-spectacular-the-db-orchestra/
LOCATION:Cafe Coda\, 1224 Williamson St\, Madison\, WI\, 53703\, United States
END:VEVENT
BEGIN:VEVENT
DTSTART;TZID=America/Chicago:20251219T180000
DTEND;TZID=America/Chicago:20251219T203000
DTSTAMP:20260423T115931
CREATED:20251119T203617Z
LAST-MODIFIED:20251119T203726Z
UID:1803-1766167200-1766176200@www.thedborchestra.com
SUMMARY:Gleam & Glow: A 60's Holiday Celebration (DB Octet)
DESCRIPTION:
URL:https://www.thedborchestra.com/calendar/gleamglow/
LOCATION:History Maker Space\, 1 S Pinckney St\, Madison\, WI\, 53703\, United States
END:VEVENT
BEGIN:VEVENT
DTSTART;VALUE=DATE:20251123
DTEND;VALUE=DATE:20251124
DTSTAMP:20260423T115931
CREATED:20251014T185357Z
LAST-MODIFIED:20251014T185357Z
UID:1787-1763856000-1763942399@www.thedborchestra.com
SUMMARY:Swing Dance (The DB Orchestra)
DESCRIPTION:
URL:https://www.thedborchestra.com/calendar/swing-dance-the-db-orchestra-15/
LOCATION:Private
END:VEVENT
BEGIN:VEVENT
DTSTART;VALUE=DATE:20251116
DTEND;VALUE=DATE:20251117
DTSTAMP:20260423T115931
CREATED:20250707T185129Z
LAST-MODIFIED:20250707T185129Z
UID:1778-1763251200-1763337599@www.thedborchestra.com
SUMMARY:Swing Dance (The DB Orchestra)
DESCRIPTION:
URL:https://www.thedborchestra.com/calendar/swing-dance-the-db-orchestra-13/
LOCATION:Private
END:VEVENT
BEGIN:VEVENT
DTSTART;TZID=America/Chicago:20251114T190000
DTEND;TZID=America/Chicago:20251114T220000
DTSTAMP:20260423T115931
CREATED:20251014T185127Z
LAST-MODIFIED:20251014T185127Z
UID:1785-1763146800-1763157600@www.thedborchestra.com
SUMMARY:Swing Dance (The DB Orchestra)
DESCRIPTION:
URL:https://www.thedborchestra.com/calendar/swing-dance-the-db-orchestra-14/
LOCATION:Private
END:VEVENT
BEGIN:VEVENT
DTSTART;TZID=America/Chicago:20251101T163000
DTEND;TZID=America/Chicago:20251101T173000
DTSTAMP:20260423T115931
CREATED:20251014T190434Z
LAST-MODIFIED:20251014T190434Z
UID:1793-1762014600-1762018200@www.thedborchestra.com
SUMMARY:Wedding (DB & The Hot 5)
DESCRIPTION:
URL:https://www.thedborchestra.com/calendar/wedding-db-the-hot-5-6/
LOCATION:Private
END:VEVENT
BEGIN:VEVENT
DTSTART;VALUE=DATE:20251025
DTEND;VALUE=DATE:20251026
DTSTAMP:20260423T115931
CREATED:20250219T163134Z
LAST-MODIFIED:20250219T163134Z
UID:1752-1761350400-1761436799@www.thedborchestra.com
SUMMARY:Wedding (The DB Octet)
DESCRIPTION:
URL:https://www.thedborchestra.com/calendar/wedding-the-db-octet-2/
LOCATION:Private
END:VEVENT
BEGIN:VEVENT
DTSTART;TZID=America/Chicago:20251014T180000
DTEND;TZID=America/Chicago:20251014T203000
DTSTAMP:20260423T115931
CREATED:20251014T185844Z
LAST-MODIFIED:20251014T185844Z
UID:1789-1760464800-1760473800@www.thedborchestra.com
SUMMARY:Gleam & Glow: A '60s Holiday Celebration (The DB Octet)
DESCRIPTION:
URL:https://www.thedborchestra.com/calendar/gleam-glow-a-60s-holiday-celebration-the-db-octet/
LOCATION:History Maker Space\, 1 S Pinckney St\, Madison\, WI\, 53703\, United States
END:VEVENT
BEGIN:VEVENT
DTSTART;TZID=America/Chicago:20250928T130000
DTEND;TZID=America/Chicago:20250928T160000
DTSTAMP:20260423T115931
CREATED:20250422T132449Z
LAST-MODIFIED:20250422T132655Z
UID:1762-1759064400-1759075200@www.thedborchestra.com
SUMMARY:Leckrone Arts Fund Fundraiser (The DB Orchestra)
DESCRIPTION:
URL:https://www.thedborchestra.com/calendar/leckrone-arts-fund-fundraiser/
LOCATION:Barnwood Events Wisconsin\, 3230 Larsen Rd\, Madison\, WI\, 53711\, United States
END:VEVENT
BEGIN:VEVENT
DTSTART;TZID=America/Chicago:20250927T140000
DTEND;TZID=America/Chicago:20250927T170000
DTSTAMP:20260423T115931
CREATED:20250131T160257Z
LAST-MODIFIED:20250131T160257Z
UID:1733-1758981600-1758992400@www.thedborchestra.com
SUMMARY:Dogtoberfest (The DB Polka Express)
DESCRIPTION:
URL:https://www.thedborchestra.com/calendar/dogtoberfest-the-db-polka-express-2/
LOCATION:The Boneyard\, 1018 Walsh Rd\, Madison\, WI\, 53714\, United States
END:VEVENT
BEGIN:VEVENT
DTSTART;VALUE=DATE:20250913
DTEND;VALUE=DATE:20250914
DTSTAMP:20260423T115931
CREATED:20250122T073308Z
LAST-MODIFIED:20250122T073308Z
UID:1723-1757721600-1757807999@www.thedborchestra.com
SUMMARY:Wedding (DB & The Hot 5)
DESCRIPTION:
URL:https://www.thedborchestra.com/calendar/wedding-db-the-hot-5-4/
LOCATION:Private
END:VEVENT
BEGIN:VEVENT
DTSTART;TZID=America/Chicago:20250903T180000
DTEND;TZID=America/Chicago:20250903T200000
DTSTAMP:20260423T115931
CREATED:20250131T155558Z
LAST-MODIFIED:20250303T034315Z
UID:1726-1756922400-1756929600@www.thedborchestra.com
SUMMARY:Jazz at Five (The DB Orchestra)
DESCRIPTION:
URL:https://www.thedborchestra.com/calendar/jazz-at-five-2/
LOCATION:South Hamilton corner of the Capitol Square
END:VEVENT
BEGIN:VEVENT
DTSTART;TZID=America/Chicago:20250810T190000
DTEND;TZID=America/Chicago:20250810T220000
DTSTAMP:20260423T115931
CREATED:20250608T191917Z
LAST-MODIFIED:20250707T185336Z
UID:1769-1754852400-1754863200@www.thedborchestra.com
SUMMARY:Swing Dance (The DB Orchestra)
DESCRIPTION:
URL:https://www.thedborchestra.com/calendar/swing-dance-the-db-orchestra-12/
LOCATION:Memorial Union Terrace\, 800 Langdon St\, Madison\, WI\, 53703\, United States
END:VEVENT
BEGIN:VEVENT
DTSTART;VALUE=DATE:20250802
DTEND;VALUE=DATE:20250803
DTSTAMP:20260423T115931
CREATED:20250122T073137Z
LAST-MODIFIED:20250122T073137Z
UID:1719-1754092800-1754179199@www.thedborchestra.com
SUMMARY:Wedding (DB & The Hot 5)
DESCRIPTION:
URL:https://www.thedborchestra.com/calendar/wedding-db-the-hot-5-2/
LOCATION:Private
END:VEVENT
BEGIN:VEVENT
DTSTART;TZID=America/Chicago:20250614T200000
DTEND;TZID=America/Chicago:20250614T220000
DTSTAMP:20260423T115931
CREATED:20250310T015049Z
LAST-MODIFIED:20250608T192138Z
UID:1758-1749931200-1749938400@www.thedborchestra.com
SUMMARY:Private Event (The DB Octet)
DESCRIPTION:
URL:https://www.thedborchestra.com/calendar/private-event-the-db-octet-2/
LOCATION:Private
END:VEVENT
BEGIN:VEVENT
DTSTART;TZID=America/Chicago:20250612T190000
DTEND;TZID=America/Chicago:20250612T200000
DTSTAMP:20260423T115931
CREATED:20250224T200652Z
LAST-MODIFIED:20250224T200728Z
UID:1754-1749754800-1749758400@www.thedborchestra.com
SUMMARY:McFarland High School Joint Concert (The DB Orchestra)
DESCRIPTION:
URL:https://www.thedborchestra.com/calendar/mcfarland-hs-joint-concert-the-db-orchestra/
LOCATION:McDaniel Park\, 4806 McDaniel Ln\, McFarland\, WI\, 53558\, United States
END:VEVENT
BEGIN:VEVENT
DTSTART;VALUE=DATE:20250607
DTEND;VALUE=DATE:20250608
DTSTAMP:20260423T115931
CREATED:20240828T191813Z
LAST-MODIFIED:20240828T191813Z
UID:1583-1749254400-1749340799@www.thedborchestra.com
SUMMARY:Wedding (The DB Orchestra)
DESCRIPTION:
URL:https://www.thedborchestra.com/calendar/wedding-the-db-orchestra-6/
LOCATION:Private
END:VEVENT
BEGIN:VEVENT
DTSTART;VALUE=DATE:20250606
DTEND;VALUE=DATE:20250607
DTSTAMP:20260423T115931
CREATED:20240828T191623Z
LAST-MODIFIED:20240828T191623Z
UID:1581-1749168000-1749254399@www.thedborchestra.com
SUMMARY:Wedding (The DB Orchestra)
DESCRIPTION:
URL:https://www.thedborchestra.com/calendar/wedding-the-db-orchestra-5/
LOCATION:Private
END:VEVENT
BEGIN:VEVENT
DTSTART;TZID=America/Chicago:20250503T200000
DTEND;TZID=America/Chicago:20250503T213000
DTSTAMP:20260423T115931
CREATED:20250219T163000Z
LAST-MODIFIED:20250219T163000Z
UID:1750-1746302400-1746307800@www.thedborchestra.com
SUMMARY:Private Party (The DB Octet)
DESCRIPTION:
URL:https://www.thedborchestra.com/calendar/private-party-the-db-octet/
LOCATION:Private
END:VEVENT
BEGIN:VEVENT
DTSTART;TZID=America/Chicago:20250427T143000
DTEND;TZID=America/Chicago:20250427T153000
DTSTAMP:20260423T115931
CREATED:20250210T155515Z
LAST-MODIFIED:20250210T155515Z
UID:1746-1745764200-1745767800@www.thedborchestra.com
SUMMARY:Public Polka Event (The DB Polka Express)
DESCRIPTION:
URL:https://www.thedborchestra.com/calendar/public-polka-event-the-db-polka-express/
LOCATION:The Bur Oak\, 2262 Winnebago St\, Madison\, WI\, 53704\, United States
END:VEVENT
BEGIN:VEVENT
DTSTART;VALUE=DATE:20250422
DTEND;VALUE=DATE:20250423
DTSTAMP:20260423T115931
CREATED:20250422T132540Z
LAST-MODIFIED:20250422T132540Z
UID:1763-1745280000-1745366399@www.thedborchestra.com
SUMMARY:Swing Dance (The DB Orchestra)
DESCRIPTION:
URL:https://www.thedborchestra.com/calendar/swing-dance-the-db-orchestra-11/
LOCATION:Private
END:VEVENT
BEGIN:VEVENT
DTSTART;VALUE=DATE:20250412
DTEND;VALUE=DATE:20250413
DTSTAMP:20260423T115931
CREATED:20250122T073045Z
LAST-MODIFIED:20250122T073045Z
UID:1716-1744416000-1744502399@www.thedborchestra.com
SUMMARY:Wedding (DB & The Hot 5)
DESCRIPTION:
URL:https://www.thedborchestra.com/calendar/wedding-db-the-hot-5/
LOCATION:Private
END:VEVENT
BEGIN:VEVENT
DTSTART;TZID=America/Chicago:20250329T183000
DTEND;TZID=America/Chicago:20250329T213000
DTSTAMP:20260423T115931
CREATED:20241215T222044Z
LAST-MODIFIED:20241215T222044Z
UID:1644-1743273000-1743283800@www.thedborchestra.com
SUMMARY:Swing into Spring (The DB Orchestra)
DESCRIPTION:
URL:https://www.thedborchestra.com/calendar/swing-into-spring-the-db-orchestra/
LOCATION:Tuscan Hall\, 409 Delafield St\, Waukesha\, WI\, 53188\, United States
END:VEVENT
BEGIN:VEVENT
DTSTART;TZID=America/Chicago:20250320T180000
DTEND;TZID=America/Chicago:20250320T210000
DTSTAMP:20260423T115931
CREATED:20241215T223447Z
LAST-MODIFIED:20250122T072940Z
UID:1649-1742493600-1742504400@www.thedborchestra.com
SUMMARY:Evening Jazz (DB & The Hot 5)
DESCRIPTION:
URL:https://www.thedborchestra.com/calendar/public-gig-the-db-polka-express/
LOCATION:Full Mile Beer Company & Kitchen\, 132 Market St Suite #100\, Madison\, WI\, 53590\, United States
END:VEVENT
BEGIN:VEVENT
DTSTART;VALUE=DATE:20250315
DTEND;VALUE=DATE:20250316
DTSTAMP:20260423T115931
CREATED:20241215T221231Z
LAST-MODIFIED:20241215T221245Z
UID:1638-1741996800-1742083199@www.thedborchestra.com
SUMMARY:Swing Dance (The DB Orchestra)
DESCRIPTION:
URL:https://www.thedborchestra.com/calendar/swing-dance-the-db-orchestra-10/
LOCATION:Private
END:VEVENT
BEGIN:VEVENT
DTSTART;VALUE=DATE:20250222
DTEND;VALUE=DATE:20250223
DTSTAMP:20260423T115931
CREATED:20240310T203302Z
LAST-MODIFIED:20250122T072844Z
UID:1389-1740182400-1740268799@www.thedborchestra.com
SUMMARY:Wedding (The DB Octet)
DESCRIPTION:
URL:https://www.thedborchestra.com/calendar/wedding-the-db-orchestra-octet/
LOCATION:Private
END:VEVENT
END:VCALENDAR