BEGIN:VCALENDAR
VERSION:2.0
PRODID:-//The DB Orchestra - ECPv6.15.3//NONSGML v1.0//EN
CALSCALE:GREGORIAN
METHOD:PUBLISH
X-ORIGINAL-URL:https://www.thedborchestra.com
X-WR-CALDESC:Events for The DB Orchestra
REFRESH-INTERVAL;VALUE=DURATION:PT1H
X-Robots-Tag:noindex
X-PUBLISHED-TTL:PT1H
BEGIN:VTIMEZONE
TZID:America/Chicago
BEGIN:DAYLIGHT
TZOFFSETFROM:-0600
TZOFFSETTO:-0500
TZNAME:CDT
DTSTART:20260308T080000
END:DAYLIGHT
BEGIN:STANDARD
TZOFFSETFROM:-0500
TZOFFSETTO:-0600
TZNAME:CST
DTSTART:20261101T070000
END:STANDARD
END:VTIMEZONE
BEGIN:VEVENT
DTSTART;TZID=America/Chicago:20260424T190000
DTEND;TZID=America/Chicago:20260424T210000
DTSTAMP:20260423T090057
CREATED:20260206T093010Z
LAST-MODIFIED:20260206T093010Z
UID:1826-1777057200-1777064400@www.thedborchestra.com
SUMMARY:St. Paul's Wine Fest
DESCRIPTION:
URL:https://www.thedborchestra.com/calendar/st-pauls-wine-fest/
LOCATION:Kohl Center\, 601 W Dayton St\, Madison\, WI\, 53703
END:VEVENT
BEGIN:VEVENT
DTSTART;TZID=America/Chicago:20260830T130000
DTEND;TZID=America/Chicago:20260830T160000
DTSTAMP:20260423T090057
CREATED:20260206T093411Z
LAST-MODIFIED:20260206T093411Z
UID:1829-1788094800-1788105600@www.thedborchestra.com
SUMMARY:Leckrone Arts Fund Forward March
DESCRIPTION:
URL:https://www.thedborchestra.com/calendar/leckrone-arts-fund-forward-march/
LOCATION:Barnwood Events Wisconsin\, 3230 Larsen Rd\, Madison\, WI\, 53711\, United States
END:VEVENT
BEGIN:VEVENT
DTSTART;TZID=America/Chicago:20260902T170000
DTEND;TZID=America/Chicago:20260902T200000
DTSTAMP:20260423T090057
CREATED:20260206T093703Z
LAST-MODIFIED:20260206T093703Z
UID:1831-1788368400-1788379200@www.thedborchestra.com
SUMMARY:Jazz at 5: Big Band Summit
DESCRIPTION:Featuring the Main Street Big Band
URL:https://www.thedborchestra.com/calendar/jazz-at-5-big-band-summit/
LOCATION:Capitol Square\, 2 East Main Street\, Madison\, WI\, 53702\, United States
END:VEVENT
END:VCALENDAR