BEGIN:VCALENDAR
VERSION:2.0
PRODID:-//The DB Orchestra - ECPv6.15.3//NONSGML v1.0//EN
CALSCALE:GREGORIAN
METHOD:PUBLISH
X-ORIGINAL-URL:https://www.thedborchestra.com
X-WR-CALDESC:Events for The DB Orchestra
REFRESH-INTERVAL;VALUE=DURATION:PT1H
X-Robots-Tag:noindex
X-PUBLISHED-TTL:PT1H
BEGIN:VTIMEZONE
TZID:America/Chicago
BEGIN:DAYLIGHT
TZOFFSETFROM:-0600
TZOFFSETTO:-0500
TZNAME:CDT
DTSTART:20220313T080000
END:DAYLIGHT
BEGIN:STANDARD
TZOFFSETFROM:-0500
TZOFFSETTO:-0600
TZNAME:CST
DTSTART:20221106T070000
END:STANDARD
BEGIN:DAYLIGHT
TZOFFSETFROM:-0600
TZOFFSETTO:-0500
TZNAME:CDT
DTSTART:20230312T080000
END:DAYLIGHT
BEGIN:STANDARD
TZOFFSETFROM:-0500
TZOFFSETTO:-0600
TZNAME:CST
DTSTART:20231105T070000
END:STANDARD
BEGIN:DAYLIGHT
TZOFFSETFROM:-0600
TZOFFSETTO:-0500
TZNAME:CDT
DTSTART:20240310T080000
END:DAYLIGHT
BEGIN:STANDARD
TZOFFSETFROM:-0500
TZOFFSETTO:-0600
TZNAME:CST
DTSTART:20241103T070000
END:STANDARD
END:VTIMEZONE
BEGIN:VEVENT
DTSTART;TZID=America/Chicago:20240525T190000
DTEND;TZID=America/Chicago:20240525T223000
DTSTAMP:20260423T185052
CREATED:20240310T201709Z
LAST-MODIFIED:20240311T165632Z
UID:1380-1716663600-1716676200@www.thedborchestra.com
SUMMARY:Wedding (DB & the Hot 5)
DESCRIPTION:
URL:https://www.thedborchestra.com/calendar/wedding-the-db-orchestra/
LOCATION:Private
END:VEVENT
BEGIN:VEVENT
DTSTART;TZID=America/Chicago:20240518T000000
DTEND;TZID=America/Chicago:20240518T000000
DTSTAMP:20260423T185052
CREATED:20240310T201412Z
LAST-MODIFIED:20240310T203342Z
UID:1377-1715990400-1715990400@www.thedborchestra.com
SUMMARY:Wedding (The DB Polka Express)
DESCRIPTION:
URL:https://www.thedborchestra.com/calendar/wedding/
LOCATION:Private
END:VEVENT
BEGIN:VEVENT
DTSTART;TZID=America/Chicago:20240504T130000
DTEND;TZID=America/Chicago:20240504T160000
DTSTAMP:20260423T185052
CREATED:20240506T191356Z
LAST-MODIFIED:20250131T160533Z
UID:1490-1714827600-1714838400@www.thedborchestra.com
SUMMARY:Botham Vineyards: Spring Party Weekend (The DB Octet)
DESCRIPTION:
URL:https://www.thedborchestra.com/calendar/botham-vineyards-spring-party-weekend-the-db-orchestra-octet/
LOCATION:Botham Vineyards & Winery\, 8180 Langberry Rd\, Barneveld\, WI\, 53507\, United States
END:VEVENT
BEGIN:VEVENT
DTSTART;TZID=America/Chicago:20240503T210000
DTEND;TZID=America/Chicago:20240503T230000
DTSTAMP:20260423T185052
CREATED:20240310T201227Z
LAST-MODIFIED:20240310T201504Z
UID:1375-1714770000-1714777200@www.thedborchestra.com
SUMMARY:Swing Dance (The DB Orchestra)
DESCRIPTION:
URL:https://www.thedborchestra.com/calendar/swing-dance-the-db-orchestra/
LOCATION:Private
END:VEVENT
BEGIN:VEVENT
DTSTART;TZID=America/Chicago:20240418T180000
DTEND;TZID=America/Chicago:20240418T190000
DTSTAMP:20260423T185052
CREATED:20240310T201008Z
LAST-MODIFIED:20240311T031827Z
UID:1371-1713463200-1713466800@www.thedborchestra.com
SUMMARY:Polka Party: Celebrating 30 Years of Wisconsin's State Dance (The DB Polka Express)
DESCRIPTION:Visit the event website for ticketing and other event information.
URL:https://www.thedborchestra.com/calendar/polka-celebration-the-db-polka-express/
LOCATION:US Bank Plaza\, 1 S Pinckney St\, Madison\, 53703\, United States
END:VEVENT
BEGIN:VEVENT
DTSTART;TZID=America/Chicago:20240413T190000
DTEND;TZID=America/Chicago:20240413T210000
DTSTAMP:20260423T185052
CREATED:20240310T200504Z
LAST-MODIFIED:20240310T200720Z
UID:1366-1713034800-1713042000@www.thedborchestra.com
SUMMARY:Swing Dance (The DB Orchestra)
DESCRIPTION:
URL:https://www.thedborchestra.com/calendar/swing-dance/
LOCATION:Private
END:VEVENT
BEGIN:VEVENT
DTSTART;TZID=America/Chicago:20240210T190000
DTEND;TZID=America/Chicago:20240210T230000
DTSTAMP:20260423T185052
CREATED:20240310T203501Z
LAST-MODIFIED:20240310T203552Z
UID:1391-1707591600-1707606000@www.thedborchestra.com
SUMMARY:Swing Dance (The DB Orchestra)
DESCRIPTION:
URL:https://www.thedborchestra.com/calendar/swing-dance-the-db-orchestra-3/
LOCATION:Private
END:VEVENT
BEGIN:VEVENT
DTSTART;TZID=America/Chicago:20231209T190000
DTEND;TZID=America/Chicago:20231209T210000
DTSTAMP:20260423T185052
CREATED:20240310T203737Z
LAST-MODIFIED:20240310T203737Z
UID:1393-1702148400-1702155600@www.thedborchestra.com
SUMMARY:A Very DBO Christmas (The DB Orchestra)
DESCRIPTION:
URL:https://www.thedborchestra.com/calendar/a-very-dbo-christmas-the-db-orchestra/
LOCATION:Cafe Coda\, 1224 Williamson St\, Madison\, WI\, 53703\, United States
END:VEVENT
BEGIN:VEVENT
DTSTART;TZID=America/Chicago:20231119T200000
DTEND;TZID=America/Chicago:20231119T220000
DTSTAMP:20260423T185052
CREATED:20240310T203850Z
LAST-MODIFIED:20240310T204941Z
UID:1396-1700424000-1700431200@www.thedborchestra.com
SUMMARY:Swing Dance (The DB Orchestra)
DESCRIPTION:
URL:https://www.thedborchestra.com/calendar/swing-dance-the-db-orchestra-4/
LOCATION:Private
END:VEVENT
BEGIN:VEVENT
DTSTART;TZID=America/Chicago:20231104T190000
DTEND;TZID=America/Chicago:20231104T230000
DTSTAMP:20260423T185052
CREATED:20240311T030437Z
LAST-MODIFIED:20240311T031110Z
UID:1420-1699124400-1699138800@www.thedborchestra.com
SUMMARY:Harvest Moon Ball - Night 2 (The DB Orchestra)
DESCRIPTION:
URL:https://www.thedborchestra.com/calendar/harvest-moon-ball-night-2/
LOCATION:The Osthoff Resort\, 101 Osthoff Avenue\, Elkhart Lake\, WI\, 53020\, United States
END:VEVENT
BEGIN:VEVENT
DTSTART;TZID=America/Chicago:20231103T190000
DTEND;TZID=America/Chicago:20231103T230000
DTSTAMP:20260423T185052
CREATED:20240311T030251Z
LAST-MODIFIED:20240311T031101Z
UID:1417-1699038000-1699052400@www.thedborchestra.com
SUMMARY:Harvest Moon Ball - Night 1 (The DB Orchestra)
DESCRIPTION:
URL:https://www.thedborchestra.com/calendar/harvest-moon-ball-night-1/
LOCATION:The Osthoff Resort\, 101 Osthoff Avenue\, Elkhart Lake\, WI\, 53020\, United States
END:VEVENT
BEGIN:VEVENT
DTSTART;TZID=America/Chicago:20230923T170000
DTEND;TZID=America/Chicago:20230923T220000
DTSTAMP:20260423T185052
CREATED:20240311T032246Z
LAST-MODIFIED:20240311T032246Z
UID:1444-1695488400-1695506400@www.thedborchestra.com
SUMMARY:Wedding (The DB Orchestra)
DESCRIPTION:
URL:https://www.thedborchestra.com/calendar/wedding-the-db-orchestra-2/
LOCATION:Private
END:VEVENT
BEGIN:VEVENT
DTSTART;TZID=America/Chicago:20230923T120000
DTEND;TZID=America/Chicago:20230923T150000
DTSTAMP:20260423T185052
CREATED:20240311T035914Z
LAST-MODIFIED:20240311T040303Z
UID:1474-1695470400-1695481200@www.thedborchestra.com
SUMMARY:McFarland Community Festival (The DB Orchestra)
DESCRIPTION:
URL:https://www.thedborchestra.com/calendar/mcfarland-community-festival-the-db-orchestra-2/
LOCATION:Downtown McFarland\, 5915 Milwaukee St\, McFarland\, WI\, 53558\, United States
END:VEVENT
BEGIN:VEVENT
DTSTART;TZID=America/Chicago:20230823T170000
DTEND;TZID=America/Chicago:20230823T200000
DTSTAMP:20260423T185052
CREATED:20240311T034957Z
LAST-MODIFIED:20240311T034957Z
UID:1465-1692810000-1692820800@www.thedborchestra.com
SUMMARY:Jazz at Five (The DB Orchestra)
DESCRIPTION:
URL:https://www.thedborchestra.com/calendar/jazz-at-five-the-db-orchestra-2/
LOCATION:100 State St\, 100 State St\, Madison\, WI\, 53703\, United States
END:VEVENT
BEGIN:VEVENT
DTSTART;TZID=America/Chicago:20230813T173000
DTEND;TZID=America/Chicago:20230813T213000
DTSTAMP:20260423T185052
CREATED:20240311T032006Z
LAST-MODIFIED:20250131T160615Z
UID:1438-1691947800-1691962200@www.thedborchestra.com
SUMMARY:Wedding (The DB Octet)
DESCRIPTION:
URL:https://www.thedborchestra.com/calendar/wedding-the-db-orchestra-octet-2/
LOCATION:Private
END:VEVENT
BEGIN:VEVENT
DTSTART;TZID=America/Chicago:20230621T180000
DTEND;TZID=America/Chicago:20230621T200000
DTSTAMP:20260423T185052
CREATED:20240311T024407Z
LAST-MODIFIED:20240311T024407Z
UID:1405-1687370400-1687377600@www.thedborchestra.com
SUMMARY:Make Music Madison (DB & the Hot 5)
DESCRIPTION:
URL:https://www.thedborchestra.com/calendar/make-music-madison-db-the-hot-5/
LOCATION:Augie’s Tavern\, The Edgewater Hotel\, 1001 Wisconsin Pl\, Madison\, WI\, 53703\, United States
END:VEVENT
BEGIN:VEVENT
DTSTART;TZID=America/Chicago:20230527T200000
DTEND;TZID=America/Chicago:20230527T220000
DTSTAMP:20260423T185052
CREATED:20240311T032338Z
LAST-MODIFIED:20240311T032338Z
UID:1446-1685217600-1685224800@www.thedborchestra.com
SUMMARY:Wedding (The DB Orchestra)
DESCRIPTION:
URL:https://www.thedborchestra.com/calendar/wedding-the-db-orchestra-3/
LOCATION:Private
END:VEVENT
BEGIN:VEVENT
DTSTART;TZID=America/Chicago:20230506T130000
DTEND;TZID=America/Chicago:20230506T160000
DTSTAMP:20260423T185052
CREATED:20240311T033836Z
LAST-MODIFIED:20250131T160603Z
UID:1456-1683378000-1683388800@www.thedborchestra.com
SUMMARY:Spring Party (The DB Octet)
DESCRIPTION:
URL:https://www.thedborchestra.com/calendar/spring-party-the-db-orchestra-octet/
LOCATION:Botham Vineyards & Winery\, 8180 Langberry Rd\, Barneveld\, WI\, 53507\, United States
END:VEVENT
BEGIN:VEVENT
DTSTART;TZID=America/Chicago:20230414T200000
DTEND;TZID=America/Chicago:20230414T220000
DTSTAMP:20260423T185052
CREATED:20240311T032548Z
LAST-MODIFIED:20240311T032548Z
UID:1448-1681502400-1681509600@www.thedborchestra.com
SUMMARY:Swing Dance (The DB Orchestra)
DESCRIPTION:
URL:https://www.thedborchestra.com/calendar/swing-dance-the-db-orchestra-5/
LOCATION:Private
END:VEVENT
BEGIN:VEVENT
DTSTART;TZID=America/Chicago:20230311T200000
DTEND;TZID=America/Chicago:20230311T233000
DTSTAMP:20260423T185052
CREATED:20240311T030856Z
LAST-MODIFIED:20240311T041351Z
UID:1424-1678564800-1678577400@www.thedborchestra.com
SUMMARY:Big Band Gala - Night 2 (The DB Orchestra)
DESCRIPTION:
URL:https://www.thedborchestra.com/calendar/big-band-gala-night-2-the-db-orchestra/
LOCATION:The Osthoff Resort\, 101 Osthoff Avenue\, Elkhart Lake\, WI\, 53020\, United States
END:VEVENT
BEGIN:VEVENT
DTSTART;TZID=America/Chicago:20230310T210000
DTEND;TZID=America/Chicago:20230310T233000
DTSTAMP:20260423T185052
CREATED:20240311T030700Z
LAST-MODIFIED:20240311T030850Z
UID:1422-1678482000-1678491000@www.thedborchestra.com
SUMMARY:Big Band Gala - Night 1 (The DB Orchestra)
DESCRIPTION:
URL:https://www.thedborchestra.com/calendar/big-band-gala-night-1/
LOCATION:The Osthoff Resort\, 101 Osthoff Avenue\, Elkhart Lake\, WI\, 53020\, United States
END:VEVENT
BEGIN:VEVENT
DTSTART;TZID=America/Chicago:20221211T200000
DTEND;TZID=America/Chicago:20221211T220000
DTSTAMP:20260423T185052
CREATED:20240311T032835Z
LAST-MODIFIED:20240311T032835Z
UID:1454-1670788800-1670796000@www.thedborchestra.com
SUMMARY:Banquet (The DB Orchestra)
DESCRIPTION:
URL:https://www.thedborchestra.com/calendar/banquet-the-db-orchestra/
LOCATION:WI
END:VEVENT
BEGIN:VEVENT
DTSTART;TZID=America/Chicago:20221014T200000
DTEND;TZID=America/Chicago:20221014T220000
DTSTAMP:20260423T185052
CREATED:20240311T032753Z
LAST-MODIFIED:20240311T032753Z
UID:1452-1665777600-1665784800@www.thedborchestra.com
SUMMARY:Swing Dance (The DB Orchestra)
DESCRIPTION:
URL:https://www.thedborchestra.com/calendar/swing-dance-the-db-orchestra-7/
LOCATION:Private
END:VEVENT
BEGIN:VEVENT
DTSTART;TZID=America/Chicago:20221008T130000
DTEND;TZID=America/Chicago:20221008T210000
DTSTAMP:20260423T185052
CREATED:20240311T032059Z
LAST-MODIFIED:20250131T160611Z
UID:1440-1665234000-1665262800@www.thedborchestra.com
SUMMARY:Wedding (The DB Octet)
DESCRIPTION:
URL:https://www.thedborchestra.com/calendar/wedding-the-db-orchestra-octet-3/
LOCATION:Private
END:VEVENT
BEGIN:VEVENT
DTSTART;TZID=America/Chicago:20220924T140000
DTEND;TZID=America/Chicago:20220924T170000
DTSTAMP:20260423T185052
CREATED:20240311T040007Z
LAST-MODIFIED:20240311T040249Z
UID:1473-1664028000-1664038800@www.thedborchestra.com
SUMMARY:McFarland Community Festival (The DB Orchestra)
DESCRIPTION:
URL:https://www.thedborchestra.com/calendar/mcfarland-community-festival-the-db-orchestra/
LOCATION:Downtown McFarland\, 5915 Milwaukee St\, McFarland\, WI\, 53558\, United States
END:VEVENT
BEGIN:VEVENT
DTSTART;TZID=America/Chicago:20220917T143000
DTEND;TZID=America/Chicago:20220917T170000
DTSTAMP:20260423T185052
CREATED:20240311T025457Z
LAST-MODIFIED:20240311T025511Z
UID:1410-1663425000-1663434000@www.thedborchestra.com
SUMMARY:Bands by the Boardwalk (The DB Polka Express)
DESCRIPTION:
URL:https://www.thedborchestra.com/calendar/bands-by-the-boardwalk/
LOCATION:McDaniel Park\, 4806 McDaniel Ln\, McFarland\, WI\, 53558\, United States
END:VEVENT
BEGIN:VEVENT
DTSTART;TZID=America/Chicago:20220824T170000
DTEND;TZID=America/Chicago:20220824T200000
DTSTAMP:20260423T185052
CREATED:20240311T034903Z
LAST-MODIFIED:20240311T034903Z
UID:1463-1661360400-1661371200@www.thedborchestra.com
SUMMARY:Jazz at Five (The DB Orchestra)
DESCRIPTION:
URL:https://www.thedborchestra.com/calendar/jazz-at-five-the-db-orchestra/
LOCATION:100 State St\, 100 State St\, Madison\, WI\, 53703\, United States
END:VEVENT
BEGIN:VEVENT
DTSTART;TZID=America/Chicago:20220727T183000
DTEND;TZID=America/Chicago:20220727T203000
DTSTAMP:20260423T185052
CREATED:20240311T035439Z
LAST-MODIFIED:20240311T035439Z
UID:1470-1658946600-1658953800@www.thedborchestra.com
SUMMARY:How Wonderful a Sound: Celebrating Broadway Milestones (The DB Orchestra)
DESCRIPTION:
URL:https://www.thedborchestra.com/calendar/how-wonderful-a-sound-celebrating-broadway-milestones-the-db-orchestra-2/
LOCATION:City Park\, 222 N Park St\, Reedsburg\, WI\, 53959\, United States
END:VEVENT
BEGIN:VEVENT
DTSTART;TZID=America/Chicago:20220708T183000
DTEND;TZID=America/Chicago:20220708T200000
DTSTAMP:20260423T185052
CREATED:20240311T035250Z
LAST-MODIFIED:20240311T035525Z
UID:1467-1657305000-1657310400@www.thedborchestra.com
SUMMARY:How Wonderful a Sound: Celebrating Broadway Milestones (The DB Orchestra)
DESCRIPTION:
URL:https://www.thedborchestra.com/calendar/how-wonderful-a-sound-celebrating-broadway-milestones-the-db-orchestra/
LOCATION:Pauquette Park\, 800 Conant St\, Portage\, WI\, 53901\, United States
END:VEVENT
BEGIN:VEVENT
DTSTART;TZID=America/Chicago:20220707T180000
DTEND;TZID=America/Chicago:20220707T200000
DTSTAMP:20260423T185052
CREATED:20240311T034244Z
LAST-MODIFIED:20240311T034720Z
UID:1459-1657216800-1657224000@www.thedborchestra.com
SUMMARY:Gazebo Musikk (The DB Orchestra)
DESCRIPTION:
URL:https://www.thedborchestra.com/calendar/gazebo-musikk/
LOCATION:Rotary Park\, 416 E Jefferson St\, Stoughton\, WI\, 53589\, United States
END:VEVENT
END:VCALENDAR