BEGIN:VCALENDAR
VERSION:2.0
PRODID:-//The DB Orchestra - ECPv6.15.3//NONSGML v1.0//EN
CALSCALE:GREGORIAN
METHOD:PUBLISH
X-ORIGINAL-URL:https://www.thedborchestra.com
X-WR-CALDESC:Events for The DB Orchestra
REFRESH-INTERVAL;VALUE=DURATION:PT1H
X-Robots-Tag:noindex
X-PUBLISHED-TTL:PT1H
BEGIN:VTIMEZONE
TZID:America/Chicago
BEGIN:DAYLIGHT
TZOFFSETFROM:-0600
TZOFFSETTO:-0500
TZNAME:CDT
DTSTART:20240310T080000
END:DAYLIGHT
BEGIN:STANDARD
TZOFFSETFROM:-0500
TZOFFSETTO:-0600
TZNAME:CST
DTSTART:20241103T070000
END:STANDARD
END:VTIMEZONE
BEGIN:VEVENT
DTSTART;TZID=America/Chicago:20241005T110000
DTEND;TZID=America/Chicago:20241005T120000
DTSTAMP:20260424T164955
CREATED:20241001T210629Z
LAST-MODIFIED:20241001T210629Z
UID:1609-1728126000-1728129600@www.thedborchestra.com
SUMMARY:Pinney Saturday Music Series (DB & The Hot 5)
DESCRIPTION:
URL:https://www.thedborchestra.com/calendar/pinney-saturday-music-series-db-the-hot-5/
LOCATION:Pinney Library\, 516 Cottage Grove Rd\, Madison\, WI\, 53716\, United States
END:VEVENT
BEGIN:VEVENT
DTSTART;TZID=America/Chicago:20241005T140000
DTEND;TZID=America/Chicago:20241005T170000
DTSTAMP:20260424T164955
CREATED:20240606T170133Z
LAST-MODIFIED:20240828T192809Z
UID:1503-1728136800-1728147600@www.thedborchestra.com
SUMMARY:Dogtoberfest (The DB Polka Express)
DESCRIPTION:
URL:https://www.thedborchestra.com/calendar/dogtoberfest-the-db-polka-express/
LOCATION:The Boneyard\, 1018 Walsh Rd\, Madison\, WI\, 53714\, United States
END:VEVENT
END:VCALENDAR