BEGIN:VCALENDAR
VERSION:2.0
PRODID:-//The DB Orchestra - ECPv6.15.3//NONSGML v1.0//EN
CALSCALE:GREGORIAN
METHOD:PUBLISH
X-ORIGINAL-URL:https://www.thedborchestra.com
X-WR-CALDESC:Events for The DB Orchestra
REFRESH-INTERVAL;VALUE=DURATION:PT1H
X-Robots-Tag:noindex
X-PUBLISHED-TTL:PT1H
BEGIN:VTIMEZONE
TZID:America/Chicago
BEGIN:DAYLIGHT
TZOFFSETFROM:-0600
TZOFFSETTO:-0500
TZNAME:CDT
DTSTART:20240310T080000
END:DAYLIGHT
BEGIN:STANDARD
TZOFFSETFROM:-0500
TZOFFSETTO:-0600
TZNAME:CST
DTSTART:20241103T070000
END:STANDARD
END:VTIMEZONE
BEGIN:VEVENT
DTSTART;VALUE=DATE:20241201
DTEND;VALUE=DATE:20241202
DTSTAMP:20260424T133119
CREATED:20241021T143453Z
LAST-MODIFIED:20241021T144252Z
UID:1618-1733011200-1733097599@www.thedborchestra.com
SUMMARY:Private Event (The DB Orchestra)
DESCRIPTION:
URL:https://www.thedborchestra.com/calendar/private-event-the-db-orchestra/
LOCATION:Private
END:VEVENT
BEGIN:VEVENT
DTSTART;TZID=America/Chicago:20241228T190000
DTEND;TZID=America/Chicago:20241228T210000
DTSTAMP:20260424T133119
CREATED:20240826T034951Z
LAST-MODIFIED:20241215T221432Z
UID:1573-1735412400-1735419600@www.thedborchestra.com
SUMMARY:Christmas Spectacular (The DB Orchestra)
DESCRIPTION:Enjoy post X’mas and pre-New Year’s Eve with DB Orchestra!
URL:https://www.thedborchestra.com/calendar/dbo-christmas-special-the-db-orchestra/
LOCATION:Cafe Coda\, 1224 Williamson St\, Madison\, WI\, 53703\, United States
END:VEVENT
END:VCALENDAR