BEGIN:VCALENDAR
VERSION:2.0
PRODID:-//The DB Orchestra - ECPv6.15.3//NONSGML v1.0//EN
CALSCALE:GREGORIAN
METHOD:PUBLISH
X-ORIGINAL-URL:https://www.thedborchestra.com
X-WR-CALDESC:Events for The DB Orchestra
REFRESH-INTERVAL;VALUE=DURATION:PT1H
X-Robots-Tag:noindex
X-PUBLISHED-TTL:PT1H
BEGIN:VTIMEZONE
TZID:America/Chicago
BEGIN:DAYLIGHT
TZOFFSETFROM:-0600
TZOFFSETTO:-0500
TZNAME:CDT
DTSTART:20250309T080000
END:DAYLIGHT
BEGIN:STANDARD
TZOFFSETFROM:-0500
TZOFFSETTO:-0600
TZNAME:CST
DTSTART:20251102T070000
END:STANDARD
END:VTIMEZONE
BEGIN:VEVENT
DTSTART;VALUE=DATE:20250122
DTEND;VALUE=DATE:20250123
DTSTAMP:20260424T114908
CREATED:20250122T073229Z
LAST-MODIFIED:20250122T073229Z
UID:1721-1737504000-1737590399@www.thedborchestra.com
SUMMARY:Wedding (DB & The Hot 5)
DESCRIPTION:
URL:https://www.thedborchestra.com/calendar/wedding-db-the-hot-5-3/
LOCATION:Private
END:VEVENT
BEGIN:VEVENT
DTSTART;TZID=America/Chicago:20250124T193000
DTEND;TZID=America/Chicago:20250124T204000
DTSTAMP:20260424T114908
CREATED:20241215T222355Z
LAST-MODIFIED:20250122T072634Z
UID:1647-1737747000-1737751200@www.thedborchestra.com
SUMMARY:UW Folk Festival (The DB Polka Express)
DESCRIPTION:
URL:https://www.thedborchestra.com/calendar/uw-folk-festival-the-db-polka-express/
LOCATION:Great Hall\, Memorial Union\, 800 Langdon St\, Madison\, WI\, 53706\, United States
END:VEVENT
BEGIN:VEVENT
DTSTART;TZID=America/Chicago:20250125T190000
DTEND;TZID=America/Chicago:20250125T210000
DTSTAMP:20260424T114908
CREATED:20240916T192336Z
LAST-MODIFIED:20250122T072516Z
UID:1606-1737831600-1737838800@www.thedborchestra.com
SUMMARY:Private Party (The DB Octet)
DESCRIPTION:
URL:https://www.thedborchestra.com/calendar/wedding-the-db-octet/
LOCATION:Private
END:VEVENT
BEGIN:VEVENT
DTSTART;VALUE=DATE:20250131
DTEND;VALUE=DATE:20250201
DTSTAMP:20260424T114908
CREATED:20250131T160123Z
LAST-MODIFIED:20250131T160803Z
UID:1729-1738281600-1738367999@www.thedborchestra.com
SUMMARY:Swing Dance (The DB Orchestra)
DESCRIPTION:
URL:https://www.thedborchestra.com/calendar/saint-pauls-spring-wine-fest/
LOCATION:Private
END:VEVENT
END:VCALENDAR