BEGIN:VCALENDAR
VERSION:2.0
PRODID:-//The DB Orchestra - ECPv6.15.3//NONSGML v1.0//EN
CALSCALE:GREGORIAN
METHOD:PUBLISH
X-ORIGINAL-URL:https://www.thedborchestra.com
X-WR-CALDESC:Events for The DB Orchestra
REFRESH-INTERVAL;VALUE=DURATION:PT1H
X-Robots-Tag:noindex
X-PUBLISHED-TTL:PT1H
BEGIN:VTIMEZONE
TZID:America/Chicago
BEGIN:DAYLIGHT
TZOFFSETFROM:-0600
TZOFFSETTO:-0500
TZNAME:CDT
DTSTART:20250309T080000
END:DAYLIGHT
BEGIN:STANDARD
TZOFFSETFROM:-0500
TZOFFSETTO:-0600
TZNAME:CST
DTSTART:20251102T070000
END:STANDARD
END:VTIMEZONE
BEGIN:VEVENT
DTSTART;TZID=America/Chicago:20250215T190000
DTEND;TZID=America/Chicago:20250215T220000
DTSTAMP:20260424T083230
CREATED:20241215T220723Z
LAST-MODIFIED:20241215T221532Z
UID:1631-1739646000-1739656800@www.thedborchestra.com
SUMMARY:10th Anniversary Bash (The DB Orchestra)
DESCRIPTION:Join the DB Orchestra for a very special performance celebrating their 10th anniversary! Featuring our favorite tunes old and new\, we promise to bring you the same energy and sound that has been packing Wisconsin dance floors for the last decade!
URL:https://www.thedborchestra.com/calendar/dbo-10th-anniversary-bash/
LOCATION:The Bur Oak\, 2262 Winnebago St\, Madison\, WI\, 53704\, United States
END:VEVENT
BEGIN:VEVENT
DTSTART;VALUE=DATE:20250222
DTEND;VALUE=DATE:20250223
DTSTAMP:20260424T083230
CREATED:20240310T203302Z
LAST-MODIFIED:20250122T072844Z
UID:1389-1740182400-1740268799@www.thedborchestra.com
SUMMARY:Wedding (The DB Octet)
DESCRIPTION:
URL:https://www.thedborchestra.com/calendar/wedding-the-db-orchestra-octet/
LOCATION:Private
END:VEVENT
END:VCALENDAR